BEGIN:VCALENDAR
VERSION:2.0
PRODID:-//ChamberMaster//Event Calendar 2.0//EN
METHOD:PUBLISH
X-PUBLISHED-TTL:P3D
REFRESH-INTERVAL:P3D
CALSCALE:GREGORIAN
BEGIN:VEVENT
DTSTART:20200117T150000Z
DTEND:20200117T160000Z
X-MICROSOFT-CDO-ALLDAYEVENT:FALSE
SUMMARY:Cancelled due to inclement weather: Chamber Chat - Rent-A-Center
DESCRIPTION:Chamber Chat
X-ALT-DESC;FMTTYPE=text/html:Chamber Chat&nbsp\;&nbsp\;&nbsp\;&nbsp\;&nbsp\;&nbsp\;&nbsp\;&nbsp\;
LOCATION:4333 Vine St. Suite #50
UID:e.1271.10361
SEQUENCE:3
DTSTAMP:20260422T191239Z
URL:https://members.hayschamber.com/events/details/cancelled-due-to-inclement-weather-chamber-chat-rent-a-center-10361
END:VEVENT

END:VCALENDAR
