BEGIN:VCALENDAR
VERSION:2.0
PRODID:-//ChamberMaster//Event Calendar 2.0//EN
METHOD:PUBLISH
X-PUBLISHED-TTL:P3D
REFRESH-INTERVAL:P3D
CALSCALE:GREGORIAN
BEGIN:VEVENT
DTSTART:20181021T000000Z
DTEND:20181021T020000Z
X-MICROSOFT-CDO-ALLDAYEVENT:FALSE
SUMMARY:Cancelled: Gubernatorial Debate
DESCRIPTION:A debate featuring our Gubernatorial candidates.
X-ALT-DESC;FMTTYPE=text/html:A debate featuring our Gubernatorial candidates.
LOCATION:Beach Schmidt Performing Arts Center 600 Park St. Hays\, KS - Sheridan Hall
UID:e.1271.9878
SEQUENCE:3
DTSTAMP:20260423T184118Z
URL:https://members.hayschamber.com/events/details/cancelled-gubernatorial-debate-9878
END:VEVENT

END:VCALENDAR
