BEGIN:VCALENDAR
VERSION:2.0
PRODID:-//ChamberMaster//Event Calendar 2.0//EN
METHOD:PUBLISH
X-PUBLISHED-TTL:P3D
REFRESH-INTERVAL:P3D
CALSCALE:GREGORIAN
BEGIN:VEVENT
DTSTART:20171226T230000Z
DTEND:20171227T010000Z
X-MICROSOFT-CDO-ALLDAYEVENT:FALSE
SUMMARY:Cancelled: HAYP Happy Hour
DESCRIPTION:This event has been cancelled due to holidays for the month of December. Look at January 2018 for the next Happy Hour information.
X-ALT-DESC;FMTTYPE=text/html:This event has been cancelled due to holidays for the month of December. Look at January 2018 for the next Happy Hour information.
LOCATION:
UID:e.1271.8700
SEQUENCE:3
DTSTAMP:20260424T145622Z
URL:https://members.hayschamber.com/events/details/cancelled-hayp-happy-hour-8700
END:VEVENT

END:VCALENDAR
