BEGIN:VCALENDAR
VERSION:2.0
PRODID:-//ChamberMaster//Event Calendar 2.0//EN
METHOD:PUBLISH
X-PUBLISHED-TTL:P3D
REFRESH-INTERVAL:P3D
CALSCALE:GREGORIAN
BEGIN:VEVENT
DTSTART:20200408T170000Z
DTEND:20200408T180000Z
X-MICROSOFT-CDO-ALLDAYEVENT:FALSE
SUMMARY:Cancelled: HYP Advisory Council Meeting
DESCRIPTION:Due to Covid-19 this months Advisory Council meeting will not take place. The next planned meeting is in May. \n\n\n\nHays Young Professionals Advisory Council and the committee chair's meet to discuss the current future states of young professional events offered by the Hays Chamber of Commerce.
X-ALT-DESC;FMTTYPE=text/html:<span style="color:#FF0000\;"><strong>Due to Covid-19 this months Advisory Council meeting will not take place. The next planned meeting is in May. </strong></span><br />\n<br />\nHays Young Professionals Advisory Council and the committee chair&#39\;s meet to discuss the current future states of young professional events offered by the Hays Chamber of Commerce.
LOCATION:The Welcome Center 2700 Vine St. Hays\, KS 67601
UID:e.1271.10411
SEQUENCE:3
DTSTAMP:20260419T224440Z
URL:https://members.hayschamber.com/events/details/cancelled-hyp-advisory-council-meeting-10411
END:VEVENT

END:VCALENDAR
