BEGIN:VCALENDAR
VERSION:2.0
PRODID:-//ChamberMaster//Event Calendar 2.0//EN
METHOD:PUBLISH
X-PUBLISHED-TTL:P3D
REFRESH-INTERVAL:P3D
CALSCALE:GREGORIAN
BEGIN:VEVENT
DTSTART:20200405T190000Z
DTEND:20200405T220000Z
X-MICROSOFT-CDO-ALLDAYEVENT:FALSE
SUMMARY:Cancelled: HYP Family Day Putt Putt at Precision Valley
DESCRIPTION:Due to Covid-19 this event will not be taking place.
X-ALT-DESC;FMTTYPE=text/html:<span style="color:#FF0000\;"><strong>Due to Covid-19 this event will not be taking place.</strong></span>
LOCATION:Precision Valley 1500 W. 27th St.\, Hays\, KS 67601
UID:e.1271.10607
SEQUENCE:3
DTSTAMP:20260419T224436Z
URL:https://members.hayschamber.com/events/details/cancelled-hyp-family-day-putt-putt-at-precision-valley-10607
END:VEVENT

END:VCALENDAR
