BEGIN:VCALENDAR
VERSION:2.0
PRODID:-//ChamberMaster//Event Calendar 2.0//EN
METHOD:PUBLISH
X-PUBLISHED-TTL:P3D
REFRESH-INTERVAL:P3D
CALSCALE:GREGORIAN
BEGIN:VEVENT
DTSTART;VALUE=DATE:20200414
DTEND;VALUE=DATE:20200415
TRANSP:TRANSPARENT
X-MICROSOFT-CDO-ALLDAYEVENT:TRUE
SUMMARY:Cancelled: HYP Lunch with Leaders
DESCRIPTION:Lunch with Leaders is an intimate opportunity to get some one on one time with one of the communities most involved members. The guest speakers vary each time. This is limited to five spots to enhance conversation abilities. April's guest: Lanae Lang\, Buckle\n\n\n\nPlease RSVP to committee chair Kaiti Dinges\, kdinges@janascampaign.org.
X-ALT-DESC;FMTTYPE=text/html:Lunch with Leaders is an intimate opportunity to get some one on one time with one of the communities most involved members. The guest speakers vary each time. This is limited to five spots to enhance conversation abilities. April&#39\;s guest: Lanae Lang\, Buckle<br />\n<br />\nPlease RSVP to committee chair Kaiti Dinges\, kdinges@janascampaign.org.
LOCATION:Gutch's 111 W. 7th Hays\, KS 67601
UID:e.1271.10610
SEQUENCE:3
DTSTAMP:20260419T234956Z
URL:https://members.hayschamber.com/events/details/cancelled-hyp-lunch-with-leaders-10610
END:VEVENT

END:VCALENDAR
