BEGIN:VCALENDAR
VERSION:2.0
PRODID:-//ChamberMaster//Event Calendar 2.0//EN
METHOD:PUBLISH
X-PUBLISHED-TTL:P3D
REFRESH-INTERVAL:P3D
CALSCALE:GREGORIAN
BEGIN:VEVENT
DTSTART:20200430T221500Z
DTEND:20200430T221500Z
X-MICROSOFT-CDO-ALLDAYEVENT:FALSE
SUMMARY:Cancelled: HYP Social Hour
DESCRIPTION:Due to Covid-19 this event will not be taking place this month. Please look for it next month.\n\n\n\nThis is a perfect more informal way to mingle with our local young professionals group. Whether you are new and want to meet people for the first time or this is the preferred time of day that works with your schedule - it is come and go as you please and all are welcome. No RSVP needed!
X-ALT-DESC;FMTTYPE=text/html:<span style="color:#FF0000\;"><strong>Due to Covid-19 this event will not be taking place this month. Please look for it next month.</strong></span><br />\n<br />\nThis is a perfect more informal way to mingle with our local young professionals group. Whether you are new and want to meet people for the first time or this is the preferred time of day that works with your schedule - it is come and go as you please and all are welcome. No RSVP needed!
LOCATION:Varies month to month. This month: Old Chicago 383 W. Mopar Dr.
UID:e.1271.10564
SEQUENCE:3
DTSTAMP:20260419T224441Z
URL:https://members.hayschamber.com/events/details/cancelled-hyp-social-hour-04-30-2020-10564
END:VEVENT

END:VCALENDAR
