BEGIN:VCALENDAR
VERSION:2.0
PRODID:-//ChamberMaster//Event Calendar 2.0//EN
METHOD:PUBLISH
X-PUBLISHED-TTL:P3D
REFRESH-INTERVAL:P3D
CALSCALE:GREGORIAN
BEGIN:VEVENT
DTSTART:20200528T221500Z
DTEND:20200528T221500Z
X-MICROSOFT-CDO-ALLDAYEVENT:FALSE
SUMMARY:Cancelled: HYP Social Hour
DESCRIPTION:This is a perfect more informal way to mingle with our local young professionals group. Whether you are new and want to meet people for the first time or this is the preferred time of day that works with your schedule - it is come and go as you please and all are welcome. There will be a brewery tour. No RSVP needed!
X-ALT-DESC;FMTTYPE=text/html:This is a perfect more informal way to mingle with our local young professionals group. Whether you are new and want to meet people for the first time or this is the preferred time of day that works with your schedule - it is come and go as you please and all are welcome. There will be a brewery tour. No RSVP needed!
LOCATION:Varies month to month. This month: Defiance Brewing 2050 E Hwy 40\, Hays\, KS 67601
UID:e.1271.10565
SEQUENCE:3
DTSTAMP:20260419T174535Z
URL:https://members.hayschamber.com/events/details/cancelled-hyp-social-hour-05-28-2020-10565
END:VEVENT

END:VCALENDAR
