BEGIN:VCALENDAR
VERSION:2.0
PRODID:-//ChamberMaster//Event Calendar 2.0//EN
METHOD:PUBLISH
X-PUBLISHED-TTL:P3D
REFRESH-INTERVAL:P3D
CALSCALE:GREGORIAN
BEGIN:VEVENT
DTSTART:20200326T221500Z
DTEND:20200326T221500Z
X-MICROSOFT-CDO-ALLDAYEVENT:FALSE
SUMMARY:Cancelled: HYP Social Hour
DESCRIPTION:This is a perfect more informal way to mingle with our local young professionals group. Whether you are new and want to meet people for the first time or this is the preferred time of day that works with your schedule - it is come and go as you please and all are welcome. No RSVP needed!
X-ALT-DESC;FMTTYPE=text/html:This is a perfect more informal way to mingle with our local young professionals group. Whether you are new and want to meet people for the first time or this is the preferred time of day that works with your schedule - it is come and go as you please and all are welcome. No RSVP needed!
LOCATION:Varies month to month. This month: CANCUN Mexican Grill 1011 Elm St.
UID:e.1271.10563
SEQUENCE:3
DTSTAMP:20260420T094114Z
URL:https://members.hayschamber.com/events/details/cancelled-hyp-social-hour-10563
END:VEVENT

END:VCALENDAR
