BEGIN:VCALENDAR
VERSION:2.0
PRODID:-//ChamberMaster//Event Calendar 2.0//EN
METHOD:PUBLISH
X-PUBLISHED-TTL:P3D
REFRESH-INTERVAL:P3D
CALSCALE:GREGORIAN
BEGIN:VEVENT
DTSTART:20200404T130000Z
DTEND:20200404T150000Z
X-MICROSOFT-CDO-ALLDAYEVENT:FALSE
SUMMARY:Cancelled: Legislative Coffee
DESCRIPTION:These forums are a series of meetings with state legislators that provide area residents the opportunity to learn more about the legislative process and state issues. Thanks to these sponsors for their support of this event: AT&T and Midwest Energy. This is a free event open to the public.
X-ALT-DESC;FMTTYPE=text/html:These forums are a series of meetings with state legislators that provide area residents the opportunity to learn more about the legislative process and state issues. Thanks to these sponsors for their support of this event: AT&amp\;T and Midwest Energy. This is a free event open to the public.<br />\n&nbsp\;
LOCATION:Ellis County Administrative Building Basement - Commission Chambers 718 Main St. Hays\, KS 67601
UID:e.1271.10608
SEQUENCE:3
DTSTAMP:20260419T221948Z
URL:https://members.hayschamber.com/events/details/cancelled-legislative-coffee-10608
END:VEVENT

END:VCALENDAR
