BEGIN:VCALENDAR
VERSION:2.0
PRODID:-//ChamberMaster//Event Calendar 2.0//EN
METHOD:PUBLISH
X-PUBLISHED-TTL:P3D
REFRESH-INTERVAL:P3D
CALSCALE:GREGORIAN
BEGIN:VEVENT
DTSTART:20200424T170000Z
DTEND:20200424T180000Z
X-MICROSOFT-CDO-ALLDAYEVENT:FALSE
SUMMARY:Cancelled: Membership Lunch
DESCRIPTION:Due to Covid-19 this event will not be taking place this month. Please look for the Membership Lunch next month.\n\n\n\nMonthly Chamber membership lunch\, open to all current Chamber members with RSVP.\n\nPresenter: Ron Wilson\, USD 489 Superintendent\n\nSponsor: Equity Bank
X-ALT-DESC;FMTTYPE=text/html:<span style="color:#FF0000\;"><strong>Due to Covid-19 this event will not be taking place this month. Please look for the Membership Lunch next month.</strong></span><br />\n<br />\n<span style="font-size:12px\;"><span style="font-family:tahoma\;"><span style="font-family:arial\;"><span style="color:black\;">Monthly Chamber membership lunch\, open to all current Chamber members with RSVP.<br />\nPresenter: Ron Wilson\, USD 489 Superintendent</span><br />\n<span style="color:black\;">Sponsor: Equity Bank</span></span></span></span><br />\n&nbsp\;
LOCATION:
UID:e.1271.10377
SEQUENCE:3
DTSTAMP:20260419T224442Z
URL:https://members.hayschamber.com/events/details/cancelled-membership-lunch-04-24-2020-10377
END:VEVENT

END:VCALENDAR
