BEGIN:VCALENDAR
VERSION:2.0
PRODID:-//ChamberMaster//Event Calendar 2.0//EN
METHOD:PUBLISH
X-PUBLISHED-TTL:P3D
REFRESH-INTERVAL:P3D
CALSCALE:GREGORIAN
BEGIN:VEVENT
DTSTART:20200327T170000Z
DTEND:20200327T180000Z
X-MICROSOFT-CDO-ALLDAYEVENT:FALSE
SUMMARY:Cancelled: Membership Lunch
DESCRIPTION:Monthly Chamber membership lunch\, open to all current Chamber members with RSVP.\n\nPresenter: Sandy Jacobs\, Heartland Community Foundation and Betsy Waring\, Dane G. Hansen Foundation     "Transfer of Wealth"\n\nSponsor: Midwest Energy
X-ALT-DESC;FMTTYPE=text/html:<span style="font-size:12px\;"><span style="font-family:tahoma\;"><span style="font-family:arial\;"><span style="color:black\;">Monthly Chamber membership lunch\, open to all current Chamber members with RSVP.<br />\nPresenter: Sandy Jacobs\, Heartland Community Foundation</span> and Betsy Waring\, Dane G. Hansen Foundation </span></span></span>&nbsp\;&nbsp\;&nbsp\;&nbsp\;<span style="font-size:12px\;"><span style="font-family:tahoma\;"><span style="font-family:arial\;">&quot\;Transfer of Wealth&quot\;<br />\n<span style="color:black\;">Sponsor: Midwest Energy</span></span></span></span><br />\n&nbsp\;
LOCATION:Smoky Hill Country Club 3303 N. Hall Hays\, KS 67601
UID:e.1271.10376
SEQUENCE:3
DTSTAMP:20260420T104357Z
URL:https://members.hayschamber.com/events/details/cancelled-membership-lunch-10376
END:VEVENT

END:VCALENDAR
