BEGIN:VCALENDAR
VERSION:2.0
PRODID:-//ChamberMaster//Event Calendar 2.0//EN
METHOD:PUBLISH
X-PUBLISHED-TTL:P3D
REFRESH-INTERVAL:P3D
CALSCALE:GREGORIAN
BEGIN:VEVENT
DTSTART:20200422T000000Z
DTEND:20200422T010000Z
X-MICROSOFT-CDO-ALLDAYEVENT:FALSE
SUMMARY:Cancelled: Real World 101
DESCRIPTION:Due to Covid-19 there will be no spring Real World 101 event this year. Please look for it again in the Fall!\n\n\n\nThe topic will be "Preparing Your Election Year Toolbox"\n\nIncluding helpful tips\, resources\, early voting packets and how to register. This is a non-partisan event.
X-ALT-DESC;FMTTYPE=text/html:<span style="color:#FF0000\;"><strong>Due to Covid-19 there will be no spring Real World 101 event this year. Please look for it again in the Fall!</strong></span><br />\n<br />\nThe topic will be &quot\;Preparing Your Election Year Toolbox&quot\;<br />\nIncluding helpful tips\, resources\, early voting packets and how to register. This is a non-partisan event.
LOCATION:Cody Commons Basement of the FHSU Memorial Union 600 Park St.\, Hays\, KS 67601
UID:e.1271.10606
SEQUENCE:3
DTSTAMP:20260420T011510Z
URL:https://members.hayschamber.com/events/details/cancelled-real-world-101-10606
END:VEVENT

END:VCALENDAR
