BEGIN:VCALENDAR
VERSION:2.0
PRODID:-//ChamberMaster//Event Calendar 2.0//EN
METHOD:PUBLISH
X-PUBLISHED-TTL:P3D
REFRESH-INTERVAL:P3D
CALSCALE:GREGORIAN
BEGIN:VEVENT
DTSTART:20170526T200000Z
DTEND:20170526T220000Z
X-MICROSOFT-CDO-ALLDAYEVENT:FALSE
SUMMARY:Celeste Sander's Retirement Celebration
DESCRIPTION:
X-ALT-DESC;FMTTYPE=text/html:
LOCATION:Please join us in honoring and thanking Celeste at a come-and-go reception at the Welcome Center\, 2700 Vine St. Chamber members and public are invited to come share this special day with her.
UID:e.1271.6203
SEQUENCE:3
DTSTAMP:20260425T123803Z
URL:https://members.hayschamber.com/events/details/celeste-sander-s-retirement-celebration-6203
END:VEVENT

END:VCALENDAR
