BEGIN:VCALENDAR
VERSION:2.0
PRODID:-//ChamberMaster//Event Calendar 2.0//EN
METHOD:PUBLISH
X-PUBLISHED-TTL:P3D
REFRESH-INTERVAL:P3D
CALSCALE:GREGORIAN
BEGIN:VEVENT
DTSTART:20180328T210000Z
DTEND:20180328T220000Z
X-MICROSOFT-CDO-ALLDAYEVENT:FALSE
SUMMARY:Chamber Board Meeting
DESCRIPTION:Regular Monthly Chamber Board Meeting
X-ALT-DESC;FMTTYPE=text/html:Regular Monthly Chamber Board Meeting
LOCATION:St. Agnes Room HaysMed Campus Enter through Entrance C and go downstairs into the Rock Garden Caf . The St. Agnes Room is located just south of this room
UID:e.1271.1908
SEQUENCE:3
DTSTAMP:20260424T132528Z
URL:https://members.hayschamber.com/events/details/chamber-board-meeting-03-20-2018-1908
END:VEVENT

END:VCALENDAR
