BEGIN:VCALENDAR
VERSION:2.0
PRODID:-//ChamberMaster//Event Calendar 2.0//EN
METHOD:PUBLISH
X-PUBLISHED-TTL:P3D
REFRESH-INTERVAL:P3D
CALSCALE:GREGORIAN
BEGIN:VEVENT
DTSTART:20190618T210000Z
DTEND:20190618T220000Z
X-MICROSOFT-CDO-ALLDAYEVENT:FALSE
SUMMARY:Chamber Board Meeting
DESCRIPTION:Regular Monthly Chamber Board Meeting
X-ALT-DESC;FMTTYPE=text/html:Regular Monthly Chamber Board Meeting
LOCATION:Eagle's Training Room Customer Care Center\, 1007 W. 27th St
UID:e.1271.1923
SEQUENCE:3
DTSTAMP:20260422T062305Z
URL:https://members.hayschamber.com/events/details/chamber-board-meeting-06-18-2019-1923
END:VEVENT

END:VCALENDAR
