BEGIN:VCALENDAR
VERSION:2.0
PRODID:-//ChamberMaster//Event Calendar 2.0//EN
METHOD:PUBLISH
X-PUBLISHED-TTL:P3D
REFRESH-INTERVAL:P3D
CALSCALE:GREGORIAN
BEGIN:VEVENT
DTSTART:20191216T210000Z
DTEND:20191216T220000Z
X-MICROSOFT-CDO-ALLDAYEVENT:FALSE
SUMMARY:Chamber Board Meeting
DESCRIPTION:Chamber Board Meeting
X-ALT-DESC;FMTTYPE=text/html:Chamber Board Meeting
LOCATION:Welcome Center (2700 Vine St.)
UID:e.1271.10363
SEQUENCE:3
DTSTAMP:20260421T221220Z
URL:https://members.hayschamber.com/events/details/chamber-board-meeting-10363
END:VEVENT

END:VCALENDAR
