BEGIN:VCALENDAR
VERSION:2.0
PRODID:-//ChamberMaster//Event Calendar 2.0//EN
METHOD:PUBLISH
X-PUBLISHED-TTL:P3D
REFRESH-INTERVAL:P3D
CALSCALE:GREGORIAN
BEGIN:VEVENT
DTSTART:20170516T130000Z
DTEND:20170516T210000Z
X-MICROSOFT-CDO-ALLDAYEVENT:FALSE
SUMMARY:Chamber Board Strategic Planning Retreat
DESCRIPTION:Chamber Board Strategic Planning
X-ALT-DESC;FMTTYPE=text/html:Chamber Board Strategic Planning
LOCATION:Memorial Union FHSU
UID:e.1271.1898
SEQUENCE:3
DTSTAMP:20260425T182600Z
URL:https://members.hayschamber.com/events/details/chamber-board-strategic-planning-retreat-1898
END:VEVENT

END:VCALENDAR
