BEGIN:VCALENDAR
VERSION:2.0
PRODID:-//ChamberMaster//Event Calendar 2.0//EN
METHOD:PUBLISH
X-PUBLISHED-TTL:P3D
REFRESH-INTERVAL:P3D
CALSCALE:GREGORIAN
BEGIN:VEVENT
DTSTART:20260821T140000Z
DTEND:20260821T150000Z
X-MICROSOFT-CDO-ALLDAYEVENT:FALSE
SUMMARY:Chamber Chat - Alzheimer's Association: Hays Walk to End Alz
DESCRIPTION:Please join The Chamber in Hays\, Kansas for a Chamber Chat with the Alzheimer's Association to talk about the upcoming Hays Walk to End Alz happening on Saturday\, October 10 in the FHSU Quad.
X-ALT-DESC;FMTTYPE=text/html:Please join The Chamber in Hays\, Kansas for a Chamber Chat with the Alzheimer&#39\;s Association to talk about the upcoming Hays Walk to End Alz happening on Saturday\, October 10 in the FHSU Quad.
LOCATION:FHSU - Location TBD 600 Park St.\, Hays
UID:e.1271.12942
SEQUENCE:3
DTSTAMP:20260424T001355Z
URL:https://members.hayschamber.com/events/details/chamber-chat-alzheimer-s-association-hays-walk-to-end-alz-12942
END:VEVENT

END:VCALENDAR
