BEGIN:VCALENDAR
VERSION:2.0
PRODID:-//ChamberMaster//Event Calendar 2.0//EN
METHOD:PUBLISH
X-PUBLISHED-TTL:P3D
REFRESH-INTERVAL:P3D
CALSCALE:GREGORIAN
BEGIN:VEVENT
DTSTART:20190927T140000Z
DTEND:20190927T150000Z
X-MICROSOFT-CDO-ALLDAYEVENT:FALSE
SUMMARY:Chamber Chat - Ashley Furniture Home Store
DESCRIPTION:Chamber Chat
X-ALT-DESC;FMTTYPE=text/html:Chamber Chat
LOCATION:2702 Vine St.
UID:e.1271.10305
SEQUENCE:3
DTSTAMP:20260422T020901Z
URL:https://members.hayschamber.com/events/details/chamber-chat-ashley-furniture-home-store-10305
END:VEVENT

END:VCALENDAR
