BEGIN:VCALENDAR
VERSION:2.0
PRODID:-//ChamberMaster//Event Calendar 2.0//EN
METHOD:PUBLISH
X-PUBLISHED-TTL:P3D
REFRESH-INTERVAL:P3D
CALSCALE:GREGORIAN
BEGIN:VEVENT
DTSTART:20180727T140000Z
DTEND:20180727T150000Z
X-MICROSOFT-CDO-ALLDAYEVENT:FALSE
SUMMARY:Chamber Chat - Bob Schwarz Financial
DESCRIPTION:
X-ALT-DESC;FMTTYPE=text/html:
LOCATION:Bob Schwarz Financial 407 Main St. Victoria\, KS
UID:e.1271.9820
SEQUENCE:3
DTSTAMP:20260424T014245Z
URL:https://members.hayschamber.com/events/details/chamber-chat-bob-schwarz-financial-9820
END:VEVENT

END:VCALENDAR
