BEGIN:VCALENDAR
VERSION:2.0
PRODID:-//ChamberMaster//Event Calendar 2.0//EN
METHOD:PUBLISH
X-PUBLISHED-TTL:P3D
REFRESH-INTERVAL:P3D
CALSCALE:GREGORIAN
BEGIN:VEVENT
DTSTART:20180119T150000Z
DTEND:20180119T160000Z
X-MICROSOFT-CDO-ALLDAYEVENT:FALSE
SUMMARY:Chamber Chat-Breathe Coffeehouse
DESCRIPTION:
X-ALT-DESC;FMTTYPE=text/html:
LOCATION:703 B Main St.
UID:e.1271.8711
SEQUENCE:3
DTSTAMP:20260424T140423Z
URL:https://members.hayschamber.com/events/details/chamber-chat-breathe-coffeehouse-8711
END:VEVENT

END:VCALENDAR
