BEGIN:VCALENDAR
VERSION:2.0
PRODID:-//ChamberMaster//Event Calendar 2.0//EN
METHOD:PUBLISH
X-PUBLISHED-TTL:P3D
REFRESH-INTERVAL:P3D
CALSCALE:GREGORIAN
BEGIN:VEVENT
DTSTART:20200626T140000Z
DTEND:20200626T150000Z
X-MICROSOFT-CDO-ALLDAYEVENT:FALSE
SUMMARY:Chamber Chat - Briney Motorsports
DESCRIPTION:Chamber Chat
X-ALT-DESC;FMTTYPE=text/html:Chamber Chat
LOCATION:Briney Motorsports - 1000 E. Hwy. 40 Bypass
UID:e.1271.10646
SEQUENCE:3
DTSTAMP:20260419T160807Z
URL:https://members.hayschamber.com/events/details/chamber-chat-briney-motorsports-10646
END:VEVENT

END:VCALENDAR
