BEGIN:VCALENDAR
VERSION:2.0
PRODID:-//ChamberMaster//Event Calendar 2.0//EN
METHOD:PUBLISH
X-PUBLISHED-TTL:P3D
REFRESH-INTERVAL:P3D
CALSCALE:GREGORIAN
BEGIN:VEVENT
DTSTART:20191018T140000Z
DTEND:20191018T150000Z
X-MICROSOFT-CDO-ALLDAYEVENT:FALSE
SUMMARY:Chamber Chat - Brookdale Hays
DESCRIPTION:
X-ALT-DESC;FMTTYPE=text/html:
LOCATION:1801 E. 27th St
UID:e.1271.10231
SEQUENCE:3
DTSTAMP:20260422T003752Z
URL:https://members.hayschamber.com/events/details/chamber-chat-brookdale-hays-10231
END:VEVENT

END:VCALENDAR
