BEGIN:VCALENDAR
VERSION:2.0
PRODID:-//ChamberMaster//Event Calendar 2.0//EN
METHOD:PUBLISH
X-PUBLISHED-TTL:P3D
REFRESH-INTERVAL:P3D
CALSCALE:GREGORIAN
BEGIN:VEVENT
DTSTART:20190906T140000Z
DTEND:20190906T150000Z
X-MICROSOFT-CDO-ALLDAYEVENT:FALSE
SUMMARY:Chamber Chat - CBD American Shaman
DESCRIPTION:Chamber Chat
X-ALT-DESC;FMTTYPE=text/html:Chamber Chat
LOCATION:2013 Vine St
UID:e.1271.10307
SEQUENCE:3
DTSTAMP:20260422T020710Z
URL:https://members.hayschamber.com/events/details/chamber-chat-cbd-american-shaman-10307
END:VEVENT

END:VCALENDAR
