BEGIN:VCALENDAR
VERSION:2.0
PRODID:-//ChamberMaster//Event Calendar 2.0//EN
METHOD:PUBLISH
X-PUBLISHED-TTL:P3D
REFRESH-INTERVAL:P3D
CALSCALE:GREGORIAN
BEGIN:VEVENT
DTSTART:20200124T150000Z
DTEND:20200124T160000Z
X-MICROSOFT-CDO-ALLDAYEVENT:FALSE
SUMMARY:Chamber Chat - Clinkscales Elder Law Practice
DESCRIPTION:Chamber Chat
X-ALT-DESC;FMTTYPE=text/html:Chamber Chat&nbsp\;
LOCATION:718 Main St. Suite 205
UID:e.1271.10340
SEQUENCE:3
DTSTAMP:20260422T171141Z
URL:https://members.hayschamber.com/events/details/chamber-chat-clinkscales-elder-law-practice-10340
END:VEVENT

END:VCALENDAR
