BEGIN:VCALENDAR
VERSION:2.0
PRODID:-//ChamberMaster//Event Calendar 2.0//EN
METHOD:PUBLISH
X-PUBLISHED-TTL:P3D
REFRESH-INTERVAL:P3D
CALSCALE:GREGORIAN
BEGIN:VEVENT
DTSTART:20190426T140000Z
DTEND:20190426T150000Z
X-MICROSOFT-CDO-ALLDAYEVENT:FALSE
SUMMARY:Chamber Chat - Dale Carnegie
DESCRIPTION:
X-ALT-DESC;FMTTYPE=text/html:
LOCATION:Welcome Center 2700 Vine
UID:e.1271.10211
SEQUENCE:3
DTSTAMP:20260422T170731Z
URL:https://members.hayschamber.com/events/details/chamber-chat-dale-carnegie-10211
END:VEVENT

END:VCALENDAR
