BEGIN:VCALENDAR
VERSION:2.0
PRODID:-//ChamberMaster//Event Calendar 2.0//EN
METHOD:PUBLISH
X-PUBLISHED-TTL:P3D
REFRESH-INTERVAL:P3D
CALSCALE:GREGORIAN
BEGIN:VEVENT
DTSTART:20191122T150000Z
DTEND:20191122T160000Z
X-MICROSOFT-CDO-ALLDAYEVENT:FALSE
SUMMARY:Chamber Chat - Diamond R Jewelry
DESCRIPTION:Chamber Chat - Diamond R Jewelry
X-ALT-DESC;FMTTYPE=text/html:Chamber Chat - Diamond R Jewelry&nbsp\;&nbsp\;&nbsp\;&nbsp\;
LOCATION:807 Main St.
UID:e.1271.10323
SEQUENCE:3
DTSTAMP:20260421T232008Z
URL:https://members.hayschamber.com/events/details/chamber-chat-diamond-r-jewelry-10323
END:VEVENT

END:VCALENDAR
