BEGIN:VCALENDAR
VERSION:2.0
PRODID:-//ChamberMaster//Event Calendar 2.0//EN
METHOD:PUBLISH
X-PUBLISHED-TTL:P3D
REFRESH-INTERVAL:P3D
CALSCALE:GREGORIAN
BEGIN:VEVENT
DTSTART:20170825T140000Z
DTEND:20170825T150000Z
X-MICROSOFT-CDO-ALLDAYEVENT:FALSE
SUMMARY:Chamber Chat-Downtown Hays Development Corp.
DESCRIPTION:
X-ALT-DESC;FMTTYPE=text/html:
LOCATION:Will be held at The Golden Griddle 230 W. 9th per Sarah
UID:e.1271.6184
SEQUENCE:3
DTSTAMP:20260425T035719Z
URL:https://members.hayschamber.com/events/details/chamber-chat-downtown-hays-development-corp-6184
END:VEVENT

END:VCALENDAR
