BEGIN:VCALENDAR
VERSION:2.0
PRODID:-//ChamberMaster//Event Calendar 2.0//EN
METHOD:PUBLISH
X-PUBLISHED-TTL:P3D
REFRESH-INTERVAL:P3D
CALSCALE:GREGORIAN
BEGIN:VEVENT
DTSTART:20171208T150000Z
DTEND:20171208T160000Z
X-MICROSOFT-CDO-ALLDAYEVENT:FALSE
SUMMARY:Chamber Chat - Downtown Hays Development Corp.
DESCRIPTION:Frost Fest is almost upon us! Bundle up and enjoy some hot chocolate and a giveaway for some magical carriage rides.
X-ALT-DESC;FMTTYPE=text/html:Frost Fest is almost upon us! Bundle up and enjoy some hot chocolate and a giveaway for some magical carriage rides.&nbsp\;
LOCATION:The Furniture Look 1000 Main St.
UID:e.1271.8699
SEQUENCE:3
DTSTAMP:20260424T144615Z
URL:https://members.hayschamber.com/events/details/chamber-chat-downtown-hays-development-corp-8699
END:VEVENT

END:VCALENDAR
