BEGIN:VCALENDAR
VERSION:2.0
PRODID:-//ChamberMaster//Event Calendar 2.0//EN
METHOD:PUBLISH
X-PUBLISHED-TTL:P3D
REFRESH-INTERVAL:P3D
CALSCALE:GREGORIAN
BEGIN:VEVENT
DTSTART:20200612T140000Z
DTEND:20200613T030000Z
X-MICROSOFT-CDO-ALLDAYEVENT:FALSE
SUMMARY:Chamber Chat - Downtown Hays Development Corporation
DESCRIPTION:Chamber Chat
X-ALT-DESC;FMTTYPE=text/html:Chamber Chat
LOCATION:Downtown Hays Development Corporation - Downtown Pavilion at 10th & Main St. (Back up weather location is the DHDC office located at 1200 Main St.)
UID:e.1271.10635
SEQUENCE:3
DTSTAMP:20260419T174537Z
URL:https://members.hayschamber.com/events/details/chamber-chat-downtown-hays-development-corporation-10635
END:VEVENT

END:VCALENDAR
