BEGIN:VCALENDAR
VERSION:2.0
PRODID:-//ChamberMaster//Event Calendar 2.0//EN
METHOD:PUBLISH
X-PUBLISHED-TTL:P3D
REFRESH-INTERVAL:P3D
CALSCALE:GREGORIAN
BEGIN:VEVENT
DTSTART:20170519T140000Z
DTEND:20170519T150000Z
X-MICROSOFT-CDO-ALLDAYEVENT:FALSE
SUMMARY:Chamber Chat-Eagle Med
DESCRIPTION:
X-ALT-DESC;FMTTYPE=text/html:
LOCATION:Hays Regional Airport 3950 E. 8th
UID:e.1271.6139
SEQUENCE:3
DTSTAMP:20260425T174302Z
URL:https://members.hayschamber.com/events/details/chamber-chat-eagle-med-6139
END:VEVENT

END:VCALENDAR
