BEGIN:VCALENDAR
VERSION:2.0
PRODID:-//ChamberMaster//Event Calendar 2.0//EN
METHOD:PUBLISH
X-PUBLISHED-TTL:P3D
REFRESH-INTERVAL:P3D
CALSCALE:GREGORIAN
BEGIN:VEVENT
DTSTART:20170915T140000Z
DTEND:20170915T150000Z
X-MICROSOFT-CDO-ALLDAYEVENT:FALSE
SUMMARY:Chamber Chat-Experiential Learning Week @ FHSU
DESCRIPTION:
X-ALT-DESC;FMTTYPE=text/html:
LOCATION:Sunset Lounge Atrium (FHSU Memorial Union)
UID:e.1271.6190
SEQUENCE:3
DTSTAMP:20260425T024037Z
URL:https://members.hayschamber.com/events/details/chamber-chat-experiential-learning-week-fhsu-6190
END:VEVENT

END:VCALENDAR
