BEGIN:VCALENDAR
VERSION:2.0
PRODID:-//ChamberMaster//Event Calendar 2.0//EN
METHOD:PUBLISH
X-PUBLISHED-TTL:P3D
REFRESH-INTERVAL:P3D
CALSCALE:GREGORIAN
BEGIN:VEVENT
DTSTART:20260814T140000Z
DTEND:20260814T150000Z
X-MICROSOFT-CDO-ALLDAYEVENT:FALSE
SUMMARY:Chamber Chat - FHSU Athletics 17th Annual Tiger Auction
DESCRIPTION:Please join us for a Chamber Chat with FHSU Athletics for their upcoming 17th Annual Tiger Auction.
X-ALT-DESC;FMTTYPE=text/html:Please join us for a Chamber Chat with FHSU Athletics for their upcoming 17th Annual Tiger Auction.
LOCATION:Gross Memorial Coliseum 600 Park St.\, Hays
UID:e.1271.12667
SEQUENCE:3
DTSTAMP:20260424T001356Z
URL:https://members.hayschamber.com/events/details/chamber-chat-fhsu-athletics-17th-annual-tiger-auction-12667
END:VEVENT

END:VCALENDAR
