BEGIN:VCALENDAR
VERSION:2.0
PRODID:-//ChamberMaster//Event Calendar 2.0//EN
METHOD:PUBLISH
X-PUBLISHED-TTL:P3D
REFRESH-INTERVAL:P3D
CALSCALE:GREGORIAN
BEGIN:VEVENT
DTSTART:20190111T150000Z
DTEND:20190111T160000Z
X-MICROSOFT-CDO-ALLDAYEVENT:FALSE
SUMMARY:Chamber Chat - FHSU Career Services
DESCRIPTION:Come and hear what Career Services is doing on campus\, in the community\, and what partnerships are available! Please go ahead and park in the Memorial Union parking lot - Spring Semester hasn't begun yet\, so plenty of room.
X-ALT-DESC;FMTTYPE=text/html:Come and hear what Career Services is doing on campus\, in the community\, and what partnerships are available! Please go ahead and park in the Memorial Union parking lot - Spring Semester hasn&#39\;t begun yet\, so plenty of room.
LOCATION:Sunset Lounge in the Memorial Union\, FHSU 600 Park Street
UID:e.1271.9924
SEQUENCE:3
DTSTAMP:20260423T111655Z
URL:https://members.hayschamber.com/events/details/chamber-chat-fhsu-career-services-9924
END:VEVENT

END:VCALENDAR
