BEGIN:VCALENDAR
VERSION:2.0
PRODID:-//ChamberMaster//Event Calendar 2.0//EN
METHOD:PUBLISH
X-PUBLISHED-TTL:P3D
REFRESH-INTERVAL:P3D
CALSCALE:GREGORIAN
BEGIN:VEVENT
DTSTART:20170331T140000Z
DTEND:20170331T150000Z
X-MICROSOFT-CDO-ALLDAYEVENT:FALSE
SUMMARY:Chamber Chat- FHSU Foundation
DESCRIPTION:
X-ALT-DESC;FMTTYPE=text/html:
LOCATION:One Tiger Place - Robbins Center FHSU
UID:e.1271.5742
SEQUENCE:3
DTSTAMP:20260425T191154Z
URL:https://members.hayschamber.com/events/details/chamber-chat-fhsu-foundation-03-31-2017-5742
END:VEVENT

END:VCALENDAR
