BEGIN:VCALENDAR
VERSION:2.0
PRODID:-//ChamberMaster//Event Calendar 2.0//EN
METHOD:PUBLISH
X-PUBLISHED-TTL:P3D
REFRESH-INTERVAL:P3D
CALSCALE:GREGORIAN
BEGIN:VEVENT
DTSTART:20191004T140000Z
DTEND:20191004T150000Z
X-MICROSOFT-CDO-ALLDAYEVENT:FALSE
SUMMARY:Chamber Chat - FHSU Homecoming
DESCRIPTION:
X-ALT-DESC;FMTTYPE=text/html:
LOCATION:Robbins Center\, FHSU Eagle Communications Hall
UID:e.1271.9893
SEQUENCE:3
DTSTAMP:20260422T004518Z
URL:https://members.hayschamber.com/events/details/chamber-chat-fhsu-homecoming-9893
END:VEVENT

END:VCALENDAR
