BEGIN:VCALENDAR
VERSION:2.0
PRODID:-//ChamberMaster//Event Calendar 2.0//EN
METHOD:PUBLISH
X-PUBLISHED-TTL:P3D
REFRESH-INTERVAL:P3D
CALSCALE:GREGORIAN
BEGIN:VEVENT
DTSTART:20170922T140000Z
DTEND:20170922T150000Z
X-MICROSOFT-CDO-ALLDAYEVENT:FALSE
SUMMARY:Chamber Chat-FHSU Homecoming (Lewis Field)
DESCRIPTION:
X-ALT-DESC;FMTTYPE=text/html:
LOCATION:Enter on the west side of Lewis Field (press box entry). In case of rain\, it will be held at the indoor track facility.
UID:e.1271.6155
SEQUENCE:3
DTSTAMP:20260425T035300Z
URL:https://members.hayschamber.com/events/details/chamber-chat-fhsu-homecoming-lewis-field-6155
END:VEVENT

END:VCALENDAR
