BEGIN:VCALENDAR
VERSION:2.0
PRODID:-//ChamberMaster//Event Calendar 2.0//EN
METHOD:PUBLISH
X-PUBLISHED-TTL:P3D
REFRESH-INTERVAL:P3D
CALSCALE:GREGORIAN
BEGIN:VEVENT
DTSTART:20191115T150000Z
DTEND:20191115T160000Z
X-MICROSOFT-CDO-ALLDAYEVENT:FALSE
SUMMARY:Chamber Chat - FHSU International Education Week
DESCRIPTION:Chamber Chat - FHSU International Education Week
X-ALT-DESC;FMTTYPE=text/html:Chamber Chat - FHSU International Education Week
LOCATION:600 Park St. (Memorial Union - Sunset Atrium)
UID:e.1271.10310
SEQUENCE:3
DTSTAMP:20260422T004209Z
URL:https://members.hayschamber.com/events/details/chamber-chat-fhsu-international-education-week-10310
END:VEVENT

END:VCALENDAR
