BEGIN:VCALENDAR
VERSION:2.0
PRODID:-//ChamberMaster//Event Calendar 2.0//EN
METHOD:PUBLISH
X-PUBLISHED-TTL:P3D
REFRESH-INTERVAL:P3D
CALSCALE:GREGORIAN
BEGIN:VEVENT
DTSTART:20170324T140000Z
DTEND:20170324T150000Z
X-MICROSOFT-CDO-ALLDAYEVENT:FALSE
SUMMARY:Chamber Chat-FHSU Sternberg Museum
DESCRIPTION:
X-ALT-DESC;FMTTYPE=text/html:
LOCATION:3000 Sternberg Dr. 2nd floor (Art & Animal Exhibit Display)
UID:e.1271.6142
SEQUENCE:3
DTSTAMP:20260425T191153Z
URL:https://members.hayschamber.com/events/details/chamber-chat-fhsu-sternberg-museum-6142
END:VEVENT

END:VCALENDAR
