BEGIN:VCALENDAR
VERSION:2.0
PRODID:-//ChamberMaster//Event Calendar 2.0//EN
METHOD:PUBLISH
X-PUBLISHED-TTL:P3D
REFRESH-INTERVAL:P3D
CALSCALE:GREGORIAN
BEGIN:VEVENT
DTSTART:20200306T150000Z
DTEND:20200306T160000Z
X-MICROSOFT-CDO-ALLDAYEVENT:FALSE
SUMMARY:Chamber Chat - FHSU Student Government Association
DESCRIPTION:Chamber Chat
X-ALT-DESC;FMTTYPE=text/html:Chamber Chat
LOCATION:FHSU Memorial Union - Ballroom (600 Park St.)
UID:e.1271.10338
SEQUENCE:3
DTSTAMP:20260422T133200Z
URL:https://members.hayschamber.com/events/details/chamber-chat-fhsu-student-government-association-10338
END:VEVENT

END:VCALENDAR
