BEGIN:VCALENDAR
VERSION:2.0
PRODID:-//ChamberMaster//Event Calendar 2.0//EN
METHOD:PUBLISH
X-PUBLISHED-TTL:P3D
REFRESH-INTERVAL:P3D
CALSCALE:GREGORIAN
BEGIN:VEVENT
DTSTART:20170818T140000Z
DTEND:20170818T150000Z
X-MICROSOFT-CDO-ALLDAYEVENT:FALSE
SUMMARY:Chamber Chat-First Care Clinic
DESCRIPTION:
X-ALT-DESC;FMTTYPE=text/html:
LOCATION:105 W. 13th
UID:e.1271.6150
SEQUENCE:3
DTSTAMP:20260425T035204Z
URL:https://members.hayschamber.com/events/details/chamber-chat-first-care-clinic-6150
END:VEVENT

END:VCALENDAR
