BEGIN:VCALENDAR
VERSION:2.0
PRODID:-//ChamberMaster//Event Calendar 2.0//EN
METHOD:PUBLISH
X-PUBLISHED-TTL:P3D
REFRESH-INTERVAL:P3D
CALSCALE:GREGORIAN
BEGIN:VEVENT
DTSTART:20190125T150000Z
DTEND:20190125T160000Z
X-MICROSOFT-CDO-ALLDAYEVENT:FALSE
SUMMARY:Chamber Chat - First Kansas Bank
DESCRIPTION:
X-ALT-DESC;FMTTYPE=text/html:
LOCATION:1200 E 27th
UID:e.1271.9925
SEQUENCE:3
DTSTAMP:20260423T055808Z
URL:https://members.hayschamber.com/events/details/chamber-chat-first-kansas-bank-9925
END:VEVENT

END:VCALENDAR
