BEGIN:VCALENDAR
VERSION:2.0
PRODID:-//ChamberMaster//Event Calendar 2.0//EN
METHOD:PUBLISH
X-PUBLISHED-TTL:P3D
REFRESH-INTERVAL:P3D
CALSCALE:GREGORIAN
BEGIN:VEVENT
DTSTART:20180209T150000Z
DTEND:20180209T160000Z
X-MICROSOFT-CDO-ALLDAYEVENT:FALSE
SUMMARY:Chamber Chat-Girl Scouts of Kansas Heartland
DESCRIPTION:Kicking off the Girl Scout cookie season with a Chamber Chat to learn more about what to expect as girls begin their business sales for the year!
X-ALT-DESC;FMTTYPE=text/html:Kicking off the Girl Scout cookie season with a Chamber Chat to learn more about what to expect as girls begin their business sales for the year!
LOCATION:2707 Vine St. Suite 8 - Northridge Plaza
UID:e.1271.8683
SEQUENCE:3
DTSTAMP:20260424T094916Z
URL:https://members.hayschamber.com/events/details/chamber-chat-girl-scouts-of-kansas-heartland-02-09-2018-8683
END:VEVENT

END:VCALENDAR
