BEGIN:VCALENDAR
VERSION:2.0
PRODID:-//ChamberMaster//Event Calendar 2.0//EN
METHOD:PUBLISH
X-PUBLISHED-TTL:P3D
REFRESH-INTERVAL:P3D
CALSCALE:GREGORIAN
BEGIN:VEVENT
DTSTART:20260828T140000Z
DTEND:20260828T150000Z
X-MICROSOFT-CDO-ALLDAYEVENT:FALSE
SUMMARY:Chamber Chat - Girl Scouts of Kansas Heartland
DESCRIPTION:Please join The Chamber in Hays\, Kansas for a Chamber Chat with Girls Scouts of Kansas Heartland!
X-ALT-DESC;FMTTYPE=text/html:Please join The Chamber in Hays\, Kansas for a Chamber Chat with&nbsp\;Girls Scouts of Kansas Heartland!
LOCATION:Girls Scouts of Kansas Heartland 2707 Vine St.\, Suite 8\, Hays
UID:e.1271.12913
SEQUENCE:3
DTSTAMP:20260424T020735Z
URL:https://members.hayschamber.com/events/details/chamber-chat-girl-scouts-of-kansas-heartland-12913
END:VEVENT

END:VCALENDAR
