BEGIN:VCALENDAR
VERSION:2.0
PRODID:-//ChamberMaster//Event Calendar 2.0//EN
METHOD:PUBLISH
X-PUBLISHED-TTL:P3D
REFRESH-INTERVAL:P3D
CALSCALE:GREGORIAN
BEGIN:VEVENT
DTSTART:20170210T150000Z
DTEND:20170210T160000Z
X-MICROSOFT-CDO-ALLDAYEVENT:FALSE
SUMMARY:Chamber Chat- Girl Scouts of Kansas Heartland
DESCRIPTION:
X-ALT-DESC;FMTTYPE=text/html:
LOCATION:Girl Scouts of Kansas Heartland 2707 Vine St. Ste. 8 Hays\, KS
UID:e.1271.5567
SEQUENCE:3
DTSTAMP:20260425T230238Z
URL:https://members.hayschamber.com/events/details/chamber-chat-girl-scouts-of-kansas-heartland-5567
END:VEVENT

END:VCALENDAR
