BEGIN:VCALENDAR
VERSION:2.0
PRODID:-//ChamberMaster//Event Calendar 2.0//EN
METHOD:PUBLISH
X-PUBLISHED-TTL:P3D
REFRESH-INTERVAL:P3D
CALSCALE:GREGORIAN
BEGIN:VEVENT
DTSTART:20190412T140000Z
DTEND:20190412T150000Z
X-MICROSOFT-CDO-ALLDAYEVENT:FALSE
SUMMARY:Chamber Chat - Good Samaritan Senior Living Facility
DESCRIPTION:
X-ALT-DESC;FMTTYPE=text/html:
LOCATION:2710 Canal Blvd North of the Good Samaritan Nursing Home
UID:e.1271.10202
SEQUENCE:3
DTSTAMP:20260422T220918Z
URL:https://members.hayschamber.com/events/details/chamber-chat-good-samaritan-senior-living-facility-10202
END:VEVENT

END:VCALENDAR
