BEGIN:VCALENDAR
VERSION:2.0
PRODID:-//ChamberMaster//Event Calendar 2.0//EN
METHOD:PUBLISH
X-PUBLISHED-TTL:P3D
REFRESH-INTERVAL:P3D
CALSCALE:GREGORIAN
BEGIN:VEVENT
DTSTART:20170609T140000Z
DTEND:20170609T150000Z
X-MICROSOFT-CDO-ALLDAYEVENT:FALSE
SUMMARY:Chamber Chat- Great Clips
DESCRIPTION:
X-ALT-DESC;FMTTYPE=text/html:
LOCATION:4315 Vine St. Ste. 20
UID:e.1271.6164
SEQUENCE:3
DTSTAMP:20260425T140609Z
URL:https://members.hayschamber.com/events/details/chamber-chat-great-clips-6164
END:VEVENT

END:VCALENDAR
