BEGIN:VCALENDAR
VERSION:2.0
PRODID:-//ChamberMaster//Event Calendar 2.0//EN
METHOD:PUBLISH
X-PUBLISHED-TTL:P3D
REFRESH-INTERVAL:P3D
CALSCALE:GREGORIAN
BEGIN:VEVENT
DTSTART:20190705T140000Z
DTEND:20190705T150000Z
X-MICROSOFT-CDO-ALLDAYEVENT:FALSE
SUMMARY:Chamber Chat - H20/Float/Cryo/Massage
DESCRIPTION:
X-ALT-DESC;FMTTYPE=text/html:
LOCATION:1011 W. 27th Ste. F4
UID:e.1271.10236
SEQUENCE:3
DTSTAMP:20260422T044821Z
URL:https://members.hayschamber.com/events/details/chamber-chat-h20-float-cryo-massage-10236
END:VEVENT

END:VCALENDAR
