BEGIN:VCALENDAR
VERSION:2.0
PRODID:-//ChamberMaster//Event Calendar 2.0//EN
METHOD:PUBLISH
X-PUBLISHED-TTL:P3D
REFRESH-INTERVAL:P3D
CALSCALE:GREGORIAN
BEGIN:VEVENT
DTSTART:20200214T150000Z
DTEND:20200214T160000Z
X-MICROSOFT-CDO-ALLDAYEVENT:FALSE
SUMMARY:Chamber Chat - Hays Community Theatre
DESCRIPTION:Weekly Chamber Chat
X-ALT-DESC;FMTTYPE=text/html:Weekly Chamber Chat&nbsp\;&nbsp\;&nbsp\;&nbsp\;
LOCATION:Hays Community Theatre 121 E. 8th St. Hays\, KS 67601
UID:e.1271.10371
SEQUENCE:3
DTSTAMP:20260420T105205Z
URL:https://members.hayschamber.com/events/details/chamber-chat-hays-community-theatre-10371
END:VEVENT

END:VCALENDAR
